BEGIN:VCALENDAR
VERSION:2.0
PRODID:-//communityofcarend.com//NONSGML kigkonsult.se iCalcreator 2.30.10/
 /
CALSCALE:GREGORIAN
METHOD:PUBLISH
UID:383cddf8-2d20-4496-8dc9-99c55ddf9f84
X-WR-CALDESC:
X-WR-RELCALID:cdd20779dc5766df6b8865f5bc226fc0
X-WR-TIMEZONE:America/Chicago
BEGIN:VTIMEZONE
TZID:America/Chicago
BEGIN:STANDARD
TZNAME:CST
DTSTART:20261101T020000
TZOFFSETFROM:-0500
TZOFFSETTO:-0600
RDATE:20271107T020000
RDATE:20281105T020000
END:STANDARD
BEGIN:DAYLIGHT
TZNAME:CDT
DTSTART:20270314T020000
TZOFFSETFROM:-0600
TZOFFSETTO:-0500
RDATE:20280312T020000
END:DAYLIGHT
END:VTIMEZONE
BEGIN:VEVENT
UID:4ac7e1e7-73ca-4752-bdc5-1169a534730f
DTSTAMP:20260420T113537Z
DESCRIPTION:
DTSTART;TZID=America/Chicago:20270715T094500
DTEND;TZID=America/Chicago:20270715T104500
LOCATION:Arthur United Methodist Church
SUMMARY:Arthur Bone Builders
END:VEVENT
END:VCALENDAR
