BEGIN:VCALENDAR
VERSION:2.0
PRODID:-//communityofcarend.com//NONSGML kigkonsult.se iCalcreator 2.30.10/
 /
CALSCALE:GREGORIAN
METHOD:PUBLISH
UID:b6478b70-83c9-4dc2-b75d-9ae6640b4369
X-WR-CALDESC:Low-impact exercise classes.
X-WR-RELCALID:3030dcd1e03d3d398f2894e0c89e0f08
X-WR-TIMEZONE:America/Chicago
BEGIN:VTIMEZONE
TZID:America/Chicago
BEGIN:STANDARD
TZNAME:CST
DTSTART:20261101T020000
TZOFFSETFROM:-0500
TZOFFSETTO:-0600
RDATE:20271107T020000
RDATE:20281105T020000
END:STANDARD
BEGIN:DAYLIGHT
TZNAME:CDT
DTSTART:20270314T020000
TZOFFSETFROM:-0600
TZOFFSETTO:-0500
RDATE:20280312T020000
END:DAYLIGHT
END:VTIMEZONE
BEGIN:VEVENT
UID:5e2d3e91-dde0-4b9d-a180-8754b31018a8
DTSTAMP:20260420T113602Z
DESCRIPTION:Low-impact exercise classes.
DTSTART;TZID=America/Chicago:20270702T103000
DTEND;TZID=America/Chicago:20270702T113000
LOCATION:Kindred City Hall
SUMMARY:Kindred Bone Builders
END:VEVENT
END:VCALENDAR
