BEGIN:VCALENDAR
VERSION:2.0
PRODID:-//communityofcarend.com//NONSGML kigkonsult.se iCalcreator 2.30.10/
 /
CALSCALE:GREGORIAN
METHOD:PUBLISH
UID:d9d32655-9a26-4275-af58-77ac32da4ec1
X-WR-CALDESC:Bone Builder Exercise Class
X-WR-RELCALID:4ad4b05898917d9137c2fce1e255e2c9
X-WR-TIMEZONE:America/Chicago
BEGIN:VTIMEZONE
TZID:America/Chicago
BEGIN:STANDARD
TZNAME:CST
DTSTART:20261101T020000
TZOFFSETFROM:-0500
TZOFFSETTO:-0600
RDATE:20271107T020000
RDATE:20281105T020000
END:STANDARD
BEGIN:DAYLIGHT
TZNAME:CDT
DTSTART:20270314T020000
TZOFFSETFROM:-0600
TZOFFSETTO:-0500
RDATE:20280312T020000
END:DAYLIGHT
END:VTIMEZONE
BEGIN:VEVENT
UID:a49889dc-8cd5-4a1c-a71a-fd2d1ad88a3b
DTSTAMP:20260420T100503Z
DESCRIPTION:Bone Builder Exercise Class
DTSTART;TZID=America/Chicago:20270628T100000
DTEND;TZID=America/Chicago:20270628T110000
LOCATION:Horace Senior Center
SUMMARY:Horace Bone Builders
END:VEVENT
END:VCALENDAR
