BEGIN:VCALENDAR
VERSION:2.0
PRODID:-//communityofcarend.com//NONSGML kigkonsult.se iCalcreator 2.30.10/
 /
CALSCALE:GREGORIAN
METHOD:PUBLISH
UID:f2b920c9-fa53-4815-b988-2c3b82537089
X-WR-CALDESC:Bone Builder Exercise Class
X-WR-RELCALID:b18a96336d5edfff1936c6b4ed02753e
X-WR-TIMEZONE:America/Chicago
BEGIN:VTIMEZONE
TZID:America/Chicago
BEGIN:STANDARD
TZNAME:CST
DTSTART:20261101T020000
TZOFFSETFROM:-0500
TZOFFSETTO:-0600
RDATE:20271107T020000
RDATE:20281105T020000
END:STANDARD
BEGIN:DAYLIGHT
TZNAME:CDT
DTSTART:20270314T020000
TZOFFSETFROM:-0600
TZOFFSETTO:-0500
RDATE:20280312T020000
END:DAYLIGHT
END:VTIMEZONE
BEGIN:VEVENT
UID:27832433-3af3-4586-930c-c0949d55d0f5
DTSTAMP:20260420T100733Z
DESCRIPTION:Bone Builder Exercise Class
DTSTART;TZID=America/Chicago:20270617T100000
DTEND;TZID=America/Chicago:20270617T110000
LOCATION:Horace Senior Center
SUMMARY:Horace Bone Builders
END:VEVENT
END:VCALENDAR
