BEGIN:VCALENDAR
VERSION:2.0
PRODID:-//communityofcarend.com//NONSGML kigkonsult.se iCalcreator 2.30.10/
 /
CALSCALE:GREGORIAN
METHOD:PUBLISH
UID:89db75a9-402d-448f-bce0-824b3820f683
X-WR-CALDESC:Low-impact exercise classes.
X-WR-RELCALID:80febe2b107825433846dd5cd0b7cf0f
X-WR-TIMEZONE:America/Chicago
BEGIN:VTIMEZONE
TZID:America/Chicago
BEGIN:STANDARD
TZNAME:CST
DTSTART:20261101T020000
TZOFFSETFROM:-0500
TZOFFSETTO:-0600
RDATE:20271107T020000
RDATE:20281105T020000
END:STANDARD
BEGIN:DAYLIGHT
TZNAME:CDT
DTSTART:20270314T020000
TZOFFSETFROM:-0600
TZOFFSETTO:-0500
RDATE:20280312T020000
END:DAYLIGHT
END:VTIMEZONE
BEGIN:VEVENT
UID:a9ec264a-c03a-4de4-aeb6-07a77ed5f2c6
DTSTAMP:20260420T100413Z
DESCRIPTION:Low-impact exercise classes.
DTSTART;TZID=America/Chicago:20270604T103000
DTEND;TZID=America/Chicago:20270604T113000
LOCATION:Kindred City Hall
SUMMARY:Kindred Bone Builders
END:VEVENT
END:VCALENDAR
