BEGIN:VCALENDAR
VERSION:2.0
PRODID:-//communityofcarend.com//NONSGML kigkonsult.se iCalcreator 2.30.10/
 /
CALSCALE:GREGORIAN
METHOD:PUBLISH
UID:5d30551d-550e-4836-9be4-faba239b6996
X-WR-CALDESC:Bone Builder Exercise Class
X-WR-RELCALID:75df8c6e22da164a87e6b3327f2cc9be
X-WR-TIMEZONE:America/Chicago
BEGIN:VTIMEZONE
TZID:America/Chicago
BEGIN:STANDARD
TZNAME:CST
DTSTART:20261101T020000
TZOFFSETFROM:-0500
TZOFFSETTO:-0600
RDATE:20271107T020000
RDATE:20281105T020000
END:STANDARD
BEGIN:DAYLIGHT
TZNAME:CDT
DTSTART:20270314T020000
TZOFFSETFROM:-0600
TZOFFSETTO:-0500
RDATE:20280312T020000
END:DAYLIGHT
END:VTIMEZONE
BEGIN:VEVENT
UID:8b5f100b-049e-4109-b46b-aa1352d278b6
DTSTAMP:20260420T100604Z
DESCRIPTION:Bone Builder Exercise Class
DTSTART;TZID=America/Chicago:20270603T100000
DTEND;TZID=America/Chicago:20270603T110000
LOCATION:Horace Senior Center
SUMMARY:Horace Bone Builders
END:VEVENT
END:VCALENDAR
