BEGIN:VCALENDAR
VERSION:2.0
PRODID:-//communityofcarend.com//NONSGML kigkonsult.se iCalcreator 2.30.10/
 /
CALSCALE:GREGORIAN
METHOD:PUBLISH
UID:31434efe-5e80-426a-b6dc-5463f7c157bb
X-WR-CALDESC:Low impact exercise class
X-WR-RELCALID:a90acb211ef9c1fba099b7368f4a21bc
X-WR-TIMEZONE:America/Chicago
BEGIN:VTIMEZONE
TZID:America/Chicago
BEGIN:STANDARD
TZNAME:CST
DTSTART:20261101T020000
TZOFFSETFROM:-0500
TZOFFSETTO:-0600
RDATE:20271107T020000
RDATE:20281105T020000
END:STANDARD
BEGIN:DAYLIGHT
TZNAME:CDT
DTSTART:20270314T020000
TZOFFSETFROM:-0600
TZOFFSETTO:-0500
RDATE:20280312T020000
END:DAYLIGHT
END:VTIMEZONE
BEGIN:VEVENT
UID:e2b48aff-0d4a-47cd-a4a4-a468f521c551
DTSTAMP:20260420T083836Z
DESCRIPTION:Low impact exercise class
DTSTART;TZID=America/Chicago:20270531T103000
DTEND;TZID=America/Chicago:20270531T113000
LOCATION:Kindred City Hall
SUMMARY:Kindred Bone Builders
END:VEVENT
END:VCALENDAR
