BEGIN:VCALENDAR
VERSION:2.0
PRODID:-//communityofcarend.com//NONSGML kigkonsult.se iCalcreator 2.30.10/
 /
CALSCALE:GREGORIAN
METHOD:PUBLISH
UID:b2ab7dc9-3b81-4bd5-b361-94c39ae07680
X-WR-CALDESC:Bone Builder Exercise Class
X-WR-RELCALID:73282821073016f549c0e22831454407
X-WR-TIMEZONE:America/Chicago
BEGIN:VTIMEZONE
TZID:America/Chicago
BEGIN:STANDARD
TZNAME:CST
DTSTART:20261101T020000
TZOFFSETFROM:-0500
TZOFFSETTO:-0600
RDATE:20271107T020000
RDATE:20281105T020000
END:STANDARD
BEGIN:DAYLIGHT
TZNAME:CDT
DTSTART:20270314T020000
TZOFFSETFROM:-0600
TZOFFSETTO:-0500
RDATE:20280312T020000
END:DAYLIGHT
END:VTIMEZONE
BEGIN:VEVENT
UID:a6562dd5-dfca-4d11-90f5-5abdd3bfdc80
DTSTAMP:20260420T084047Z
DESCRIPTION:Bone Builder Exercise Class
DTSTART;TZID=America/Chicago:20270531T100000
DTEND;TZID=America/Chicago:20270531T110000
LOCATION:Horace Senior Center
SUMMARY:Horace Bone Builders
END:VEVENT
END:VCALENDAR
