BEGIN:VCALENDAR
VERSION:2.0
PRODID:-//communityofcarend.com//NONSGML kigkonsult.se iCalcreator 2.30.10/
 /
CALSCALE:GREGORIAN
METHOD:PUBLISH
UID:6a2354d8-f4e6-44df-9139-435e7eebbdfd
X-WR-CALDESC:Low-impact exercise classes.
X-WR-RELCALID:76794d57823082e17a35fcc8ddd022d4
X-WR-TIMEZONE:America/Chicago
BEGIN:VTIMEZONE
TZID:America/Chicago
BEGIN:STANDARD
TZNAME:CST
DTSTART:20261101T020000
TZOFFSETFROM:-0500
TZOFFSETTO:-0600
RDATE:20271107T020000
RDATE:20281105T020000
END:STANDARD
BEGIN:DAYLIGHT
TZNAME:CDT
DTSTART:20270314T020000
TZOFFSETFROM:-0600
TZOFFSETTO:-0500
RDATE:20280312T020000
END:DAYLIGHT
END:VTIMEZONE
BEGIN:VEVENT
UID:eadc7c14-8b82-4579-b5be-10ea747d10e0
DTSTAMP:20260420T084930Z
DESCRIPTION:Low-impact exercise classes.
DTSTART;TZID=America/Chicago:20270528T103000
DTEND;TZID=America/Chicago:20270528T113000
LOCATION:Kindred City Hall
SUMMARY:Kindred Bone Builders
END:VEVENT
END:VCALENDAR
