BEGIN:VCALENDAR
VERSION:2.0
PRODID:-//communityofcarend.com//NONSGML kigkonsult.se iCalcreator 2.30.10/
 /
CALSCALE:GREGORIAN
METHOD:PUBLISH
UID:9048445c-3b24-43d5-8875-2682102966ae
X-WR-CALDESC:Bone Builder Exercise Class
X-WR-RELCALID:f7972e7073c639e9506ede2ba39af58d
X-WR-TIMEZONE:America/Chicago
BEGIN:VTIMEZONE
TZID:America/Chicago
BEGIN:STANDARD
TZNAME:CST
DTSTART:20261101T020000
TZOFFSETFROM:-0500
TZOFFSETTO:-0600
RDATE:20271107T020000
RDATE:20281105T020000
END:STANDARD
BEGIN:DAYLIGHT
TZNAME:CDT
DTSTART:20270314T020000
TZOFFSETFROM:-0600
TZOFFSETTO:-0500
RDATE:20280312T020000
END:DAYLIGHT
END:VTIMEZONE
BEGIN:VEVENT
UID:35f468a2-8706-4d4a-a330-6bfe183bf7b5
DTSTAMP:20260420T085039Z
DESCRIPTION:Bone Builder Exercise Class
DTSTART;TZID=America/Chicago:20270524T100000
DTEND;TZID=America/Chicago:20270524T110000
LOCATION:Horace Senior Center
SUMMARY:Horace Bone Builders
END:VEVENT
END:VCALENDAR
