BEGIN:VCALENDAR
VERSION:2.0
PRODID:-//communityofcarend.com//NONSGML kigkonsult.se iCalcreator 2.30.10/
 /
CALSCALE:GREGORIAN
METHOD:PUBLISH
UID:f82f0993-2393-4b73-a87f-c3789445eb7e
X-WR-CALDESC:Bone Builder Exercise Class
X-WR-RELCALID:491d80f04836dabd8000882ffbbf2e61
X-WR-TIMEZONE:America/Chicago
BEGIN:VTIMEZONE
TZID:America/Chicago
BEGIN:STANDARD
TZNAME:CST
DTSTART:20261101T020000
TZOFFSETFROM:-0500
TZOFFSETTO:-0600
RDATE:20271107T020000
RDATE:20281105T020000
END:STANDARD
BEGIN:DAYLIGHT
TZNAME:CDT
DTSTART:20270314T020000
TZOFFSETFROM:-0600
TZOFFSETTO:-0500
RDATE:20280312T020000
END:DAYLIGHT
END:VTIMEZONE
BEGIN:VEVENT
UID:a7fc42fb-d2ac-41fb-8d03-a3c6bcdcafde
DTSTAMP:20260422T085048Z
DESCRIPTION:Bone Builder Exercise Class
DTSTART;TZID=America/Chicago:20270520T100000
DTEND;TZID=America/Chicago:20270520T110000
LOCATION:Horace Senior Center
SUMMARY:Horace Bone Builders
END:VEVENT
END:VCALENDAR
