BEGIN:VCALENDAR
VERSION:2.0
PRODID:-//communityofcarend.com//NONSGML kigkonsult.se iCalcreator 2.30.10/
 /
CALSCALE:GREGORIAN
METHOD:PUBLISH
UID:f119910b-d028-4d0c-80ee-1e792dc905a0
X-WR-CALDESC:Low-impact exercise classes.
X-WR-RELCALID:d39809129def9bfba910919a56657cd6
X-WR-TIMEZONE:America/Chicago
BEGIN:VTIMEZONE
TZID:America/Chicago
BEGIN:STANDARD
TZNAME:CST
DTSTART:20261101T020000
TZOFFSETFROM:-0500
TZOFFSETTO:-0600
RDATE:20271107T020000
RDATE:20281105T020000
END:STANDARD
BEGIN:DAYLIGHT
TZNAME:CDT
DTSTART:20270314T020000
TZOFFSETFROM:-0600
TZOFFSETTO:-0500
RDATE:20280312T020000
END:DAYLIGHT
END:VTIMEZONE
BEGIN:VEVENT
UID:1ac07e4c-1429-4f6b-8506-183ef2bc9bad
DTSTAMP:20260420T083702Z
DESCRIPTION:Low-impact exercise classes.
DTSTART;TZID=America/Chicago:20270514T103000
DTEND;TZID=America/Chicago:20270514T113000
LOCATION:Kindred City Hall
SUMMARY:Kindred Bone Builders
END:VEVENT
END:VCALENDAR
