BEGIN:VCALENDAR
VERSION:2.0
PRODID:-//communityofcarend.com//NONSGML kigkonsult.se iCalcreator 2.30.10/
 /
CALSCALE:GREGORIAN
METHOD:PUBLISH
UID:4654501d-9b24-4b15-83ea-76efacb3e896
X-WR-CALDESC:Low impact exercise class
X-WR-RELCALID:79e33a7cffc0dfcb1081cea80f871817
X-WR-TIMEZONE:America/Chicago
BEGIN:VTIMEZONE
TZID:America/Chicago
BEGIN:STANDARD
TZNAME:CST
DTSTART:20261101T020000
TZOFFSETFROM:-0500
TZOFFSETTO:-0600
RDATE:20271107T020000
END:STANDARD
BEGIN:DAYLIGHT
TZNAME:CDT
DTSTART:20270314T020000
TZOFFSETFROM:-0600
TZOFFSETTO:-0500
RDATE:20280312T020000
END:DAYLIGHT
END:VTIMEZONE
BEGIN:VEVENT
UID:645d1cbe-c2e0-4d13-9506-1b3e2420c13f
DTSTAMP:20260420T083839Z
DESCRIPTION:Low impact exercise class
DTSTART;TZID=America/Chicago:20270503T103000
DTEND;TZID=America/Chicago:20270503T113000
LOCATION:Kindred City Hall
SUMMARY:Kindred Bone Builders
END:VEVENT
END:VCALENDAR
