BEGIN:VCALENDAR
VERSION:2.0
PRODID:-//communityofcarend.com//NONSGML kigkonsult.se iCalcreator 2.30.10/
 /
CALSCALE:GREGORIAN
METHOD:PUBLISH
UID:2355b0ae-b9be-427a-b604-030b7e618e0e
X-WR-CALDESC:Low-impact exercise classes.
X-WR-RELCALID:34ef370460ee62e6297e3ab8225f613b
X-WR-TIMEZONE:America/Chicago
BEGIN:VTIMEZONE
TZID:America/Chicago
BEGIN:STANDARD
TZNAME:CST
DTSTART:20261101T020000
TZOFFSETFROM:-0500
TZOFFSETTO:-0600
RDATE:20271107T020000
END:STANDARD
BEGIN:DAYLIGHT
TZNAME:CDT
DTSTART:20270314T020000
TZOFFSETFROM:-0600
TZOFFSETTO:-0500
RDATE:20280312T020000
END:DAYLIGHT
END:VTIMEZONE
BEGIN:VEVENT
UID:d64da284-169e-4c6c-a8fc-800776b5597c
DTSTAMP:20260420T071541Z
DESCRIPTION:Low-impact exercise classes.
DTSTART;TZID=America/Chicago:20270430T103000
DTEND;TZID=America/Chicago:20270430T113000
LOCATION:Kindred City Hall
SUMMARY:Kindred Bone Builders
END:VEVENT
END:VCALENDAR
