BEGIN:VCALENDAR
VERSION:2.0
PRODID:-//communityofcarend.com//NONSGML kigkonsult.se iCalcreator 2.30.10/
 /
CALSCALE:GREGORIAN
METHOD:PUBLISH
UID:2abbfc8b-4308-4408-94df-168576316573
X-WR-CALDESC:Low impact exercise class
X-WR-RELCALID:d68c42df1d7829b2f7f5618409a2fc8d
X-WR-TIMEZONE:America/Chicago
BEGIN:VTIMEZONE
TZID:America/Chicago
BEGIN:STANDARD
TZNAME:CST
DTSTART:20261101T020000
TZOFFSETFROM:-0500
TZOFFSETTO:-0600
RDATE:20271107T020000
END:STANDARD
BEGIN:DAYLIGHT
TZNAME:CDT
DTSTART:20270314T020000
TZOFFSETFROM:-0600
TZOFFSETTO:-0500
RDATE:20280312T020000
END:DAYLIGHT
END:VTIMEZONE
BEGIN:VEVENT
UID:da954779-0b27-4eb9-b292-b84b47ee03f2
DTSTAMP:20260420T071547Z
DESCRIPTION:Low impact exercise class
DTSTART;TZID=America/Chicago:20270419T103000
DTEND;TZID=America/Chicago:20270419T113000
LOCATION:Kindred City Hall
SUMMARY:Kindred Bone Builders
END:VEVENT
END:VCALENDAR
