BEGIN:VCALENDAR
VERSION:2.0
PRODID:-//communityofcarend.com//NONSGML kigkonsult.se iCalcreator 2.30.10/
 /
CALSCALE:GREGORIAN
METHOD:PUBLISH
UID:f01630e9-0ebb-415a-9958-23da23d5984c
X-WR-CALDESC:Bone Builder Exercise Class
X-WR-RELCALID:436851ab37239c0449d1848c55817b1b
X-WR-TIMEZONE:America/Chicago
BEGIN:VTIMEZONE
TZID:America/Chicago
BEGIN:STANDARD
TZNAME:CST
DTSTART:20261101T020000
TZOFFSETFROM:-0500
TZOFFSETTO:-0600
RDATE:20271107T020000
END:STANDARD
BEGIN:DAYLIGHT
TZNAME:CDT
DTSTART:20270314T020000
TZOFFSETFROM:-0600
TZOFFSETTO:-0500
RDATE:20280312T020000
END:DAYLIGHT
END:VTIMEZONE
BEGIN:VEVENT
UID:f63edb48-e436-438b-a494-fae3eba0c977
DTSTAMP:20260420T071638Z
DESCRIPTION:Bone Builder Exercise Class
DTSTART;TZID=America/Chicago:20270419T100000
DTEND;TZID=America/Chicago:20270419T110000
LOCATION:Horace Senior Center
SUMMARY:Horace Bone Builders
END:VEVENT
END:VCALENDAR
