BEGIN:VCALENDAR
VERSION:2.0
PRODID:-//communityofcarend.com//NONSGML kigkonsult.se iCalcreator 2.30.10/
 /
CALSCALE:GREGORIAN
METHOD:PUBLISH
UID:715f2647-43b5-4791-87cc-67eb24d16964
X-WR-CALDESC:Low-impact exercise classes.
X-WR-RELCALID:628e9360cc76574aed5cd2f165401433
X-WR-TIMEZONE:America/Chicago
BEGIN:VTIMEZONE
TZID:America/Chicago
BEGIN:STANDARD
TZNAME:CST
DTSTART:20261101T020000
TZOFFSETFROM:-0500
TZOFFSETTO:-0600
RDATE:20271107T020000
END:STANDARD
BEGIN:DAYLIGHT
TZNAME:CDT
DTSTART:20270314T020000
TZOFFSETFROM:-0600
TZOFFSETTO:-0500
RDATE:20280312T020000
END:DAYLIGHT
END:VTIMEZONE
BEGIN:VEVENT
UID:cd4b057f-7007-47eb-bdaa-d117a65dd6ee
DTSTAMP:20260420T071444Z
DESCRIPTION:Low-impact exercise classes.
DTSTART;TZID=America/Chicago:20270416T103000
DTEND;TZID=America/Chicago:20270416T113000
LOCATION:Kindred City Hall
SUMMARY:Kindred Bone Builders
END:VEVENT
END:VCALENDAR
