BEGIN:VCALENDAR
VERSION:2.0
PRODID:-//communityofcarend.com//NONSGML kigkonsult.se iCalcreator 2.30.10/
 /
CALSCALE:GREGORIAN
METHOD:PUBLISH
UID:6c06e158-5a3d-4ad6-ba02-97d25b5bd290
X-WR-CALDESC:
X-WR-RELCALID:3597bb18178d7392e9ca48da1479b5ce
X-WR-TIMEZONE:America/Chicago
BEGIN:VTIMEZONE
TZID:America/Chicago
BEGIN:STANDARD
TZNAME:CST
DTSTART:20261101T020000
TZOFFSETFROM:-0500
TZOFFSETTO:-0600
RDATE:20271107T020000
END:STANDARD
BEGIN:DAYLIGHT
TZNAME:CDT
DTSTART:20270314T020000
TZOFFSETFROM:-0600
TZOFFSETTO:-0500
RDATE:20280312T020000
END:DAYLIGHT
END:VTIMEZONE
BEGIN:VEVENT
UID:47e27a6e-0c17-42cc-8a65-d26ecac3d7b4
DTSTAMP:20260420T072256Z
DESCRIPTION:
DTSTART;TZID=America/Chicago:20270408T100000
DTEND;TZID=America/Chicago:20270408T120000
LOCATION:
SUMMARY:C of Care Board Meeting
END:VEVENT
END:VCALENDAR
