BEGIN:VCALENDAR
VERSION:2.0
PRODID:-//communityofcarend.com//NONSGML kigkonsult.se iCalcreator 2.30.10/
 /
CALSCALE:GREGORIAN
METHOD:PUBLISH
UID:6a343e96-dbcf-4cc3-8f83-83ecb2ba81ca
X-WR-CALDESC:
X-WR-RELCALID:4ac356c338caf1e9636a4dbeeed42bf7
X-WR-TIMEZONE:America/Chicago
BEGIN:VTIMEZONE
TZID:America/Chicago
BEGIN:STANDARD
TZNAME:CST
DTSTART:20261101T020000
TZOFFSETFROM:-0500
TZOFFSETTO:-0600
RDATE:20271107T020000
END:STANDARD
BEGIN:DAYLIGHT
TZNAME:CDT
DTSTART:20270314T020000
TZOFFSETFROM:-0600
TZOFFSETTO:-0500
RDATE:20280312T020000
END:DAYLIGHT
END:VTIMEZONE
BEGIN:VEVENT
UID:483fa160-8082-4e0a-8cb6-8d4f7b6fa674
DTSTAMP:20260420T071935Z
DESCRIPTION:
DTSTART;TZID=America/Chicago:20270408T093000
DTEND;TZID=America/Chicago:20270408T103000
LOCATION:Davenport School
SUMMARY:Davenport Bone Builders
END:VEVENT
END:VCALENDAR
