BEGIN:VCALENDAR
VERSION:2.0
PRODID:-//communityofcarend.com//NONSGML kigkonsult.se iCalcreator 2.30.10/
 /
CALSCALE:GREGORIAN
METHOD:PUBLISH
UID:468cc87a-c242-4878-a731-d6f70a1ff0e3
X-WR-CALDESC:Bone Builder Exercise Class
X-WR-RELCALID:f1239e8af678da94550db046d43e3f4b
X-WR-TIMEZONE:America/Chicago
BEGIN:VTIMEZONE
TZID:America/Chicago
BEGIN:STANDARD
TZNAME:CST
DTSTART:20261101T020000
TZOFFSETFROM:-0500
TZOFFSETTO:-0600
RDATE:20271107T020000
END:STANDARD
BEGIN:DAYLIGHT
TZNAME:CDT
DTSTART:20270314T020000
TZOFFSETFROM:-0600
TZOFFSETTO:-0500
RDATE:20280312T020000
END:DAYLIGHT
END:VTIMEZONE
BEGIN:VEVENT
UID:a681fa63-6056-408a-ae40-1557e9865289
DTSTAMP:20260420T071546Z
DESCRIPTION:Bone Builder Exercise Class
DTSTART;TZID=America/Chicago:20270405T100000
DTEND;TZID=America/Chicago:20270405T110000
LOCATION:Horace Senior Center
SUMMARY:Horace Bone Builders
END:VEVENT
END:VCALENDAR
