BEGIN:VCALENDAR
VERSION:2.0
PRODID:-//communityofcarend.com//NONSGML kigkonsult.se iCalcreator 2.30.10/
 /
CALSCALE:GREGORIAN
METHOD:PUBLISH
UID:e6452a4b-acff-4b8e-8eec-01e9c6b52c1b
X-WR-CALDESC:
X-WR-RELCALID:b5ca44797a5587eeaf8edb26139efb23
X-WR-TIMEZONE:America/Chicago
BEGIN:VTIMEZONE
TZID:America/Chicago
BEGIN:STANDARD
TZNAME:CST
DTSTART:20261101T020000
TZOFFSETFROM:-0500
TZOFFSETTO:-0600
RDATE:20271107T020000
END:STANDARD
BEGIN:DAYLIGHT
TZNAME:CDT
DTSTART:20270314T020000
TZOFFSETFROM:-0600
TZOFFSETTO:-0500
RDATE:20280312T020000
END:DAYLIGHT
END:VTIMEZONE
BEGIN:VEVENT
UID:71b514f5-4454-43ea-affb-74f6a7d0d0b8
DTSTAMP:20260420T072027Z
DESCRIPTION:
DTSTART;TZID=America/Chicago:20270405T093000
DTEND;TZID=America/Chicago:20270405T103000
LOCATION:Davenport School
SUMMARY:Davenport Bone Builders
END:VEVENT
END:VCALENDAR
