BEGIN:VCALENDAR
VERSION:2.0
PRODID:-//communityofcarend.com//NONSGML kigkonsult.se iCalcreator 2.30.10/
 /
CALSCALE:GREGORIAN
METHOD:PUBLISH
UID:b84ac053-5c0d-4a37-a2d3-0554bfec7397
X-WR-CALDESC:Low-impact exercise classes.
X-WR-RELCALID:8d461ce4b79486adbcc94f4efe5e055d
X-WR-TIMEZONE:America/Chicago
BEGIN:VTIMEZONE
TZID:America/Chicago
BEGIN:STANDARD
TZNAME:CST
DTSTART:20261101T020000
TZOFFSETFROM:-0500
TZOFFSETTO:-0600
RDATE:20271107T020000
END:STANDARD
BEGIN:DAYLIGHT
TZNAME:CDT
DTSTART:20270314T020000
TZOFFSETFROM:-0600
TZOFFSETTO:-0500
RDATE:20280312T020000
END:DAYLIGHT
END:VTIMEZONE
BEGIN:VEVENT
UID:bd4d0f61-09dd-4bb8-b765-fb6be96f01b0
DTSTAMP:20260420T111713Z
DESCRIPTION:Low-impact exercise classes.
DTSTART;TZID=America/Chicago:20270402T103000
DTEND;TZID=America/Chicago:20270402T113000
LOCATION:Kindred City Hall
SUMMARY:Kindred Bone Builders
END:VEVENT
END:VCALENDAR
