BEGIN:VCALENDAR
VERSION:2.0
PRODID:-//communityofcarend.com//NONSGML kigkonsult.se iCalcreator 2.30.10/
 /
CALSCALE:GREGORIAN
METHOD:PUBLISH
UID:6e7fdf83-6148-46e6-a94e-ab45c4c33341
X-WR-CALDESC:Bone Builder Exercise Class
X-WR-RELCALID:882cce848a54078f0002000a46af5c7c
X-WR-TIMEZONE:America/Chicago
BEGIN:VTIMEZONE
TZID:America/Chicago
BEGIN:STANDARD
TZNAME:CST
DTSTART:20261101T020000
TZOFFSETFROM:-0500
TZOFFSETTO:-0600
RDATE:20271107T020000
END:STANDARD
BEGIN:DAYLIGHT
TZNAME:CDT
DTSTART:20270314T020000
TZOFFSETFROM:-0600
TZOFFSETTO:-0500
RDATE:20280312T020000
END:DAYLIGHT
END:VTIMEZONE
BEGIN:VEVENT
UID:58a41e00-8dbb-460e-b22f-9068646dc64b
DTSTAMP:20260420T071638Z
DESCRIPTION:Bone Builder Exercise Class
DTSTART;TZID=America/Chicago:20270401T100000
DTEND;TZID=America/Chicago:20270401T110000
LOCATION:Horace Senior Center
SUMMARY:Horace Bone Builders
END:VEVENT
END:VCALENDAR
