BEGIN:VCALENDAR
VERSION:2.0
PRODID:-//communityofcarend.com//NONSGML kigkonsult.se iCalcreator 2.30.10/
 /
CALSCALE:GREGORIAN
METHOD:PUBLISH
UID:285260a6-4db1-418c-833f-2d281b7a7ea8
X-WR-CALDESC:
X-WR-RELCALID:69ec9038da94ec5b6dc791c9b51c7a12
X-WR-TIMEZONE:America/Chicago
BEGIN:VTIMEZONE
TZID:America/Chicago
BEGIN:STANDARD
TZNAME:CST
DTSTART:20261101T020000
TZOFFSETFROM:-0500
TZOFFSETTO:-0600
RDATE:20271107T020000
END:STANDARD
BEGIN:DAYLIGHT
TZNAME:CDT
DTSTART:20270314T020000
TZOFFSETFROM:-0600
TZOFFSETTO:-0500
RDATE:20280312T020000
END:DAYLIGHT
END:VTIMEZONE
BEGIN:VEVENT
UID:bc222f95-c8d2-47ae-88f3-2988976149c5
DTSTAMP:20260420T054140Z
DESCRIPTION:
DTSTART;TZID=America/Chicago:20270325T094500
DTEND;TZID=America/Chicago:20270325T104500
LOCATION:Arthur United Methodist Church
SUMMARY:Arthur Bone Builders
END:VEVENT
END:VCALENDAR
