BEGIN:VCALENDAR
VERSION:2.0
PRODID:-//communityofcarend.com//NONSGML kigkonsult.se iCalcreator 2.30.10/
 /
CALSCALE:GREGORIAN
METHOD:PUBLISH
UID:7950a66e-150f-4f76-87c8-4e979b4082e4
X-WR-CALDESC:Bone Builder Exercise Class
X-WR-RELCALID:d7febdd61c4fa1cc9d643f9f10f34d6e
X-WR-TIMEZONE:America/Chicago
BEGIN:VTIMEZONE
TZID:America/Chicago
BEGIN:STANDARD
TZNAME:CST
DTSTART:20261101T020000
TZOFFSETFROM:-0500
TZOFFSETTO:-0600
RDATE:20271107T020000
END:STANDARD
BEGIN:DAYLIGHT
TZNAME:CDT
DTSTART:20270314T020000
TZOFFSETFROM:-0600
TZOFFSETTO:-0500
RDATE:20280312T020000
END:DAYLIGHT
END:VTIMEZONE
BEGIN:VEVENT
UID:997f5d7f-0e35-4acd-bba9-5ac90b10a14e
DTSTAMP:20260420T054350Z
DESCRIPTION:Bone Builder Exercise Class
DTSTART;TZID=America/Chicago:20270318T100000
DTEND;TZID=America/Chicago:20270318T110000
LOCATION:Horace Senior Center
SUMMARY:Horace Bone Builders
END:VEVENT
END:VCALENDAR
