BEGIN:VCALENDAR
VERSION:2.0
PRODID:-//communityofcarend.com//NONSGML kigkonsult.se iCalcreator 2.30.10/
 /
CALSCALE:GREGORIAN
METHOD:PUBLISH
UID:197261b7-d8c8-45e8-89c2-32716e68c73f
X-WR-CALDESC:
X-WR-RELCALID:47b359f1485ee4f89bd330463f110204
X-WR-TIMEZONE:America/Chicago
BEGIN:VTIMEZONE
TZID:America/Chicago
BEGIN:STANDARD
TZNAME:CST
DTSTART:20261101T020000
TZOFFSETFROM:-0500
TZOFFSETTO:-0600
RDATE:20271107T020000
END:STANDARD
BEGIN:DAYLIGHT
TZNAME:CDT
DTSTART:20270314T020000
TZOFFSETFROM:-0600
TZOFFSETTO:-0500
RDATE:20280312T020000
END:DAYLIGHT
END:VTIMEZONE
BEGIN:VEVENT
UID:8d782049-24dd-4acb-8bca-00be1a272112
DTSTAMP:20260420T054033Z
DESCRIPTION:
DTSTART;TZID=America/Chicago:20270315T100000
DTEND;TZID=America/Chicago:20270315T110000
LOCATION:Hunter Insurance  Building
SUMMARY:Hunter Bone Builders
END:VEVENT
END:VCALENDAR
