BEGIN:VCALENDAR
VERSION:2.0
PRODID:-//communityofcarend.com//NONSGML kigkonsult.se iCalcreator 2.30.10/
 /
CALSCALE:GREGORIAN
METHOD:PUBLISH
UID:b5f66966-9156-4600-a0fd-fdfc9150a66f
X-WR-CALDESC:Bone Builder Exercise Class
X-WR-RELCALID:7df4558db9df6a3216d7451aed3127e9
X-WR-TIMEZONE:America/Chicago
BEGIN:VTIMEZONE
TZID:America/Chicago
BEGIN:STANDARD
TZNAME:CST
DTSTART:20261101T020000
TZOFFSETFROM:-0500
TZOFFSETTO:-0600
RDATE:20271107T020000
END:STANDARD
BEGIN:DAYLIGHT
TZNAME:CDT
DTSTART:20270314T020000
TZOFFSETFROM:-0600
TZOFFSETTO:-0500
RDATE:20280312T020000
END:DAYLIGHT
END:VTIMEZONE
BEGIN:VEVENT
UID:933c727d-f6ab-45a6-b335-5e2ee0250537
DTSTAMP:20260420T055929Z
DESCRIPTION:Bone Builder Exercise Class
DTSTART;TZID=America/Chicago:20270315T100000
DTEND;TZID=America/Chicago:20270315T110000
LOCATION:Horace Senior Center
SUMMARY:Horace Bone Builders
END:VEVENT
END:VCALENDAR
