BEGIN:VCALENDAR
VERSION:2.0
PRODID:-//communityofcarend.com//NONSGML kigkonsult.se iCalcreator 2.30.10/
 /
CALSCALE:GREGORIAN
METHOD:PUBLISH
UID:3ecfc3e9-7316-445c-a31e-0ce44292f89f
X-WR-CALDESC:Low-impact exercise classes.
X-WR-RELCALID:e527ddf484df63cddbeb13d6927cee55
X-WR-TIMEZONE:America/Chicago
BEGIN:VTIMEZONE
TZID:America/Chicago
BEGIN:STANDARD
TZNAME:CST
DTSTART:20261101T020000
TZOFFSETFROM:-0500
TZOFFSETTO:-0600
RDATE:20271107T020000
END:STANDARD
BEGIN:DAYLIGHT
TZNAME:CDT
DTSTART:20270314T020000
TZOFFSETFROM:-0600
TZOFFSETTO:-0500
RDATE:20280312T020000
END:DAYLIGHT
END:VTIMEZONE
BEGIN:VEVENT
UID:64271b83-0054-4700-93aa-c727bc5e6c67
DTSTAMP:20260420T054316Z
DESCRIPTION:Low-impact exercise classes.
DTSTART;TZID=America/Chicago:20270312T103000
DTEND;TZID=America/Chicago:20270312T113000
LOCATION:Kindred City Hall
SUMMARY:Kindred Bone Builders
END:VEVENT
END:VCALENDAR
