BEGIN:VCALENDAR
VERSION:2.0
PRODID:-//communityofcarend.com//NONSGML kigkonsult.se iCalcreator 2.30.10/
 /
CALSCALE:GREGORIAN
METHOD:PUBLISH
UID:7cdbf212-a5e6-4872-aa57-0649b5deac1d
X-WR-CALDESC:Low impact exercise class
X-WR-RELCALID:c5e1f3aef13eaa14148b61337df1be7a
X-WR-TIMEZONE:America/Chicago
BEGIN:VTIMEZONE
TZID:America/Chicago
BEGIN:STANDARD
TZNAME:CST
DTSTART:20261101T020000
TZOFFSETFROM:-0500
TZOFFSETTO:-0600
RDATE:20271107T020000
END:STANDARD
BEGIN:DAYLIGHT
TZNAME:CDT
DTSTART:20260308T020000
TZOFFSETFROM:-0600
TZOFFSETTO:-0500
RDATE:20270314T020000
RDATE:20280312T020000
END:DAYLIGHT
END:VTIMEZONE
BEGIN:VEVENT
UID:d805d085-1c28-40a5-89d5-19f57fc924ba
DTSTAMP:20260420T054139Z
DESCRIPTION:Low impact exercise class
DTSTART;TZID=America/Chicago:20270308T103000
DTEND;TZID=America/Chicago:20270308T113000
LOCATION:Kindred City Hall
SUMMARY:Kindred Bone Builders
END:VEVENT
END:VCALENDAR
