BEGIN:VCALENDAR
VERSION:2.0
PRODID:-//communityofcarend.com//NONSGML kigkonsult.se iCalcreator 2.30.10/
 /
CALSCALE:GREGORIAN
METHOD:PUBLISH
UID:5cb70d54-a9f3-4086-ad95-4f41eea138a7
X-WR-CALDESC:Bone Builder Exercise Class
X-WR-RELCALID:45f37d1ab079862c5854a6404774a619
X-WR-TIMEZONE:America/Chicago
BEGIN:VTIMEZONE
TZID:America/Chicago
BEGIN:STANDARD
TZNAME:CST
DTSTART:20261101T020000
TZOFFSETFROM:-0500
TZOFFSETTO:-0600
RDATE:20271107T020000
END:STANDARD
BEGIN:DAYLIGHT
TZNAME:CDT
DTSTART:20260308T020000
TZOFFSETFROM:-0600
TZOFFSETTO:-0500
RDATE:20270314T020000
RDATE:20280312T020000
END:DAYLIGHT
END:VTIMEZONE
BEGIN:VEVENT
UID:af8c8b4d-cfb4-41f4-9157-6e8ca11ccc38
DTSTAMP:20260420T054343Z
DESCRIPTION:Bone Builder Exercise Class
DTSTART;TZID=America/Chicago:20270308T100000
DTEND;TZID=America/Chicago:20270308T110000
LOCATION:Horace Senior Center
SUMMARY:Horace Bone Builders
END:VEVENT
END:VCALENDAR
