BEGIN:VCALENDAR
VERSION:2.0
PRODID:-//communityofcarend.com//NONSGML kigkonsult.se iCalcreator 2.30.10/
 /
CALSCALE:GREGORIAN
METHOD:PUBLISH
UID:e82b5793-b86f-4059-ac5e-65f73592c5f2
X-WR-CALDESC:Low impact exercise class
X-WR-RELCALID:0661a5159ae7d5bbeffcf579420ace12
X-WR-TIMEZONE:America/Chicago
BEGIN:VTIMEZONE
TZID:America/Chicago
BEGIN:STANDARD
TZNAME:CST
DTSTART:20261101T020000
TZOFFSETFROM:-0500
TZOFFSETTO:-0600
RDATE:20271107T020000
END:STANDARD
BEGIN:DAYLIGHT
TZNAME:CDT
DTSTART:20260308T020000
TZOFFSETFROM:-0600
TZOFFSETTO:-0500
RDATE:20270314T020000
RDATE:20280312T020000
END:DAYLIGHT
END:VTIMEZONE
BEGIN:VEVENT
UID:ed6b4161-e6d6-4493-b963-e746afd6d00d
DTSTAMP:20260420T054226Z
DESCRIPTION:Low impact exercise class
DTSTART;TZID=America/Chicago:20270301T103000
DTEND;TZID=America/Chicago:20270301T113000
LOCATION:Kindred City Hall
SUMMARY:Kindred Bone Builders
END:VEVENT
END:VCALENDAR
