BEGIN:VCALENDAR
VERSION:2.0
PRODID:-//communityofcarend.com//NONSGML kigkonsult.se iCalcreator 2.30.10/
 /
CALSCALE:GREGORIAN
METHOD:PUBLISH
UID:1a6d90b0-02f8-434f-8934-261641385d4f
X-WR-CALDESC:Bone Builder Exercise Class
X-WR-RELCALID:0e30ca7d0086906cffef84df4a514319
X-WR-TIMEZONE:America/Chicago
BEGIN:VTIMEZONE
TZID:America/Chicago
BEGIN:STANDARD
TZNAME:CST
DTSTART:20261101T020000
TZOFFSETFROM:-0500
TZOFFSETTO:-0600
RDATE:20271107T020000
END:STANDARD
BEGIN:DAYLIGHT
TZNAME:CDT
DTSTART:20260308T020000
TZOFFSETFROM:-0600
TZOFFSETTO:-0500
RDATE:20270314T020000
RDATE:20280312T020000
END:DAYLIGHT
END:VTIMEZONE
BEGIN:VEVENT
UID:6200f0a0-10e6-46dc-b320-190b47a74ff3
DTSTAMP:20260420T054346Z
DESCRIPTION:Bone Builder Exercise Class
DTSTART;TZID=America/Chicago:20270301T100000
DTEND;TZID=America/Chicago:20270301T110000
LOCATION:Horace Senior Center
SUMMARY:Horace Bone Builders
END:VEVENT
END:VCALENDAR
