BEGIN:VCALENDAR
VERSION:2.0
PRODID:-//communityofcarend.com//NONSGML kigkonsult.se iCalcreator 2.30.10/
 /
CALSCALE:GREGORIAN
METHOD:PUBLISH
UID:3e6d8bf0-f993-4570-9b6b-59a03b7632da
X-WR-CALDESC:Low-impact exercise classes.
X-WR-RELCALID:4326ea1e6e3fa3cb8ac850e136832c8a
X-WR-TIMEZONE:America/Chicago
BEGIN:VTIMEZONE
TZID:America/Chicago
BEGIN:STANDARD
TZNAME:CST
DTSTART:20261101T020000
TZOFFSETFROM:-0500
TZOFFSETTO:-0600
RDATE:20271107T020000
END:STANDARD
BEGIN:DAYLIGHT
TZNAME:CDT
DTSTART:20260308T020000
TZOFFSETFROM:-0600
TZOFFSETTO:-0500
RDATE:20270314T020000
RDATE:20280312T020000
END:DAYLIGHT
END:VTIMEZONE
BEGIN:VEVENT
UID:42ab7133-9043-43fe-8bf7-c43a5996625b
DTSTAMP:20260420T042005Z
DESCRIPTION:Low-impact exercise classes.
DTSTART;TZID=America/Chicago:20270226T103000
DTEND;TZID=America/Chicago:20270226T113000
LOCATION:Kindred City Hall
SUMMARY:Kindred Bone Builders
END:VEVENT
END:VCALENDAR
