BEGIN:VCALENDAR
VERSION:2.0
PRODID:-//communityofcarend.com//NONSGML kigkonsult.se iCalcreator 2.30.10/
 /
CALSCALE:GREGORIAN
METHOD:PUBLISH
UID:eefd6c04-a787-4bb8-af8e-d21c033906c0
X-WR-CALDESC:Low-impact exercise classes.
X-WR-RELCALID:967e02494e6d32759c2c6c60ee215219
X-WR-TIMEZONE:America/Chicago
BEGIN:VTIMEZONE
TZID:America/Chicago
BEGIN:STANDARD
TZNAME:CST
DTSTART:20261101T020000
TZOFFSETFROM:-0500
TZOFFSETTO:-0600
RDATE:20271107T020000
END:STANDARD
BEGIN:DAYLIGHT
TZNAME:CDT
DTSTART:20260308T020000
TZOFFSETFROM:-0600
TZOFFSETTO:-0500
RDATE:20270314T020000
RDATE:20280312T020000
END:DAYLIGHT
END:VTIMEZONE
BEGIN:VEVENT
UID:b239769e-04f8-4143-bf6f-be6c7d51f3b0
DTSTAMP:20260420T042044Z
DESCRIPTION:Low-impact exercise classes.
DTSTART;TZID=America/Chicago:20270219T103000
DTEND;TZID=America/Chicago:20270219T113000
LOCATION:Kindred City Hall
SUMMARY:Kindred Bone Builders
END:VEVENT
END:VCALENDAR
