BEGIN:VCALENDAR
VERSION:2.0
PRODID:-//communityofcarend.com//NONSGML kigkonsult.se iCalcreator 2.30.10/
 /
CALSCALE:GREGORIAN
METHOD:PUBLISH
UID:5a0f64e2-7de3-4dd4-bead-e0ef81f82deb
X-WR-CALDESC:Bone Builder Exercise Class
X-WR-RELCALID:fa3b58783f59db7e2f1b28fb050d7c40
X-WR-TIMEZONE:America/Chicago
BEGIN:VTIMEZONE
TZID:America/Chicago
BEGIN:STANDARD
TZNAME:CST
DTSTART:20261101T020000
TZOFFSETFROM:-0500
TZOFFSETTO:-0600
RDATE:20271107T020000
END:STANDARD
BEGIN:DAYLIGHT
TZNAME:CDT
DTSTART:20260308T020000
TZOFFSETFROM:-0600
TZOFFSETTO:-0500
RDATE:20270314T020000
RDATE:20280312T020000
END:DAYLIGHT
END:VTIMEZONE
BEGIN:VEVENT
UID:1917ce8d-b3bf-4dee-b98a-c68b569cee4f
DTSTAMP:20260420T042238Z
DESCRIPTION:Bone Builder Exercise Class
DTSTART;TZID=America/Chicago:20270218T100000
DTEND;TZID=America/Chicago:20270218T110000
LOCATION:Horace Senior Center
SUMMARY:Horace Bone Builders
END:VEVENT
END:VCALENDAR
