BEGIN:VCALENDAR
VERSION:2.0
PRODID:-//communityofcarend.com//NONSGML kigkonsult.se iCalcreator 2.30.10/
 /
CALSCALE:GREGORIAN
METHOD:PUBLISH
UID:aaf36489-f095-4aba-a4be-75e6e7c0ff86
X-WR-CALDESC:Low-impact exercise classes.
X-WR-RELCALID:10385547aef99a5bb4af03b46c0adcb4
X-WR-TIMEZONE:America/Chicago
BEGIN:VTIMEZONE
TZID:America/Chicago
BEGIN:STANDARD
TZNAME:CST
DTSTART:20261101T020000
TZOFFSETFROM:-0500
TZOFFSETTO:-0600
RDATE:20271107T020000
END:STANDARD
BEGIN:DAYLIGHT
TZNAME:CDT
DTSTART:20260308T020000
TZOFFSETFROM:-0600
TZOFFSETTO:-0500
RDATE:20270314T020000
RDATE:20280312T020000
END:DAYLIGHT
END:VTIMEZONE
BEGIN:VEVENT
UID:09b84c7a-f70b-4cf9-ac11-0bd7182a0ba0
DTSTAMP:20260420T042002Z
DESCRIPTION:Low-impact exercise classes.
DTSTART;TZID=America/Chicago:20270212T103000
DTEND;TZID=America/Chicago:20270212T113000
LOCATION:Kindred City Hall
SUMMARY:Kindred Bone Builders
END:VEVENT
END:VCALENDAR
