BEGIN:VCALENDAR
VERSION:2.0
PRODID:-//communityofcarend.com//NONSGML kigkonsult.se iCalcreator 2.30.10/
 /
CALSCALE:GREGORIAN
METHOD:PUBLISH
UID:ea7ad6b9-683b-4818-87e9-0d306ec4d605
X-WR-CALDESC:Bone Builder Exercise Class
X-WR-RELCALID:9c96ab85a83a449fe5e46e258330e7c8
X-WR-TIMEZONE:America/Chicago
BEGIN:VTIMEZONE
TZID:America/Chicago
BEGIN:STANDARD
TZNAME:CST
DTSTART:20261101T020000
TZOFFSETFROM:-0500
TZOFFSETTO:-0600
RDATE:20271107T020000
END:STANDARD
BEGIN:DAYLIGHT
TZNAME:CDT
DTSTART:20260308T020000
TZOFFSETFROM:-0600
TZOFFSETTO:-0500
RDATE:20270314T020000
RDATE:20280312T020000
END:DAYLIGHT
END:VTIMEZONE
BEGIN:VEVENT
UID:68d7efa6-7cae-415c-b18b-fddea6f19ebe
DTSTAMP:20260420T042004Z
DESCRIPTION:Bone Builder Exercise Class
DTSTART;TZID=America/Chicago:20270201T100000
DTEND;TZID=America/Chicago:20270201T110000
LOCATION:Horace Senior Center
SUMMARY:Horace Bone Builders
END:VEVENT
END:VCALENDAR
