BEGIN:VCALENDAR
VERSION:2.0
PRODID:-//communityofcarend.com//NONSGML kigkonsult.se iCalcreator 2.30.10/
 /
CALSCALE:GREGORIAN
METHOD:PUBLISH
UID:03b639df-a748-4f77-9a11-ad116ad162f6
X-WR-CALDESC:Bone Builder Exercise Class
X-WR-RELCALID:03b52f909522f370034fe32221cbade1
X-WR-TIMEZONE:America/Chicago
BEGIN:VTIMEZONE
TZID:America/Chicago
BEGIN:STANDARD
TZNAME:CST
DTSTART:20261101T020000
TZOFFSETFROM:-0500
TZOFFSETTO:-0600
RDATE:20271107T020000
END:STANDARD
BEGIN:DAYLIGHT
TZNAME:CDT
DTSTART:20260308T020000
TZOFFSETFROM:-0600
TZOFFSETTO:-0500
RDATE:20270314T020000
RDATE:20280312T020000
END:DAYLIGHT
END:VTIMEZONE
BEGIN:VEVENT
UID:a56f212b-e696-43b1-856e-d47417233def
DTSTAMP:20260420T025318Z
DESCRIPTION:Bone Builder Exercise Class
DTSTART;TZID=America/Chicago:20270125T100000
DTEND;TZID=America/Chicago:20270125T110000
LOCATION:Horace Senior Center
SUMMARY:Horace Bone Builders
END:VEVENT
END:VCALENDAR
