BEGIN:VCALENDAR
VERSION:2.0
PRODID:-//communityofcarend.com//NONSGML kigkonsult.se iCalcreator 2.30.10/
 /
CALSCALE:GREGORIAN
METHOD:PUBLISH
UID:3f318e1d-c619-4831-869f-0939c19f2a66
X-WR-CALDESC:Low impact exercise class
X-WR-RELCALID:03664b09777b9fe26d30b5a272bd1e53
X-WR-TIMEZONE:America/Chicago
BEGIN:VTIMEZONE
TZID:America/Chicago
BEGIN:STANDARD
TZNAME:CST
DTSTART:20261101T020000
TZOFFSETFROM:-0500
TZOFFSETTO:-0600
RDATE:20271107T020000
END:STANDARD
BEGIN:DAYLIGHT
TZNAME:CDT
DTSTART:20260308T020000
TZOFFSETFROM:-0600
TZOFFSETTO:-0500
RDATE:20270314T020000
RDATE:20280312T020000
END:DAYLIGHT
END:VTIMEZONE
BEGIN:VEVENT
UID:a8a9da13-1a9c-4ff3-8692-eb3c6980bfe6
DTSTAMP:20260420T025200Z
DESCRIPTION:Low impact exercise class
DTSTART;TZID=America/Chicago:20270118T103000
DTEND;TZID=America/Chicago:20270118T113000
LOCATION:Kindred City Hall
SUMMARY:Kindred Bone Builders
END:VEVENT
END:VCALENDAR
