BEGIN:VCALENDAR
VERSION:2.0
PRODID:-//communityofcarend.com//NONSGML kigkonsult.se iCalcreator 2.30.10/
 /
CALSCALE:GREGORIAN
METHOD:PUBLISH
UID:a0c8f987-45f8-4106-b2eb-a085b955d07f
X-WR-CALDESC:Bone Builder Exercise Class
X-WR-RELCALID:d802552c6af6efa0e88b33ab6d3e0a2d
X-WR-TIMEZONE:America/Chicago
BEGIN:VTIMEZONE
TZID:America/Chicago
BEGIN:STANDARD
TZNAME:CST
DTSTART:20261101T020000
TZOFFSETFROM:-0500
TZOFFSETTO:-0600
RDATE:20271107T020000
END:STANDARD
BEGIN:DAYLIGHT
TZNAME:CDT
DTSTART:20260308T020000
TZOFFSETFROM:-0600
TZOFFSETTO:-0500
RDATE:20270314T020000
RDATE:20280312T020000
END:DAYLIGHT
END:VTIMEZONE
BEGIN:VEVENT
UID:e9be8a20-36ef-455e-87b7-9177e7acdfba
DTSTAMP:20260420T025558Z
DESCRIPTION:Bone Builder Exercise Class
DTSTART;TZID=America/Chicago:20270118T100000
DTEND;TZID=America/Chicago:20270118T110000
LOCATION:Horace Senior Center
SUMMARY:Horace Bone Builders
END:VEVENT
END:VCALENDAR
