BEGIN:VCALENDAR
VERSION:2.0
PRODID:-//communityofcarend.com//NONSGML kigkonsult.se iCalcreator 2.30.10/
 /
CALSCALE:GREGORIAN
METHOD:PUBLISH
UID:7c6e5326-2180-428d-98ae-e754899d3888
X-WR-CALDESC:Bone Builder Exercise Class
X-WR-RELCALID:c56c42d54a1485254038c1468302fc27
X-WR-TIMEZONE:America/Chicago
BEGIN:VTIMEZONE
TZID:America/Chicago
BEGIN:STANDARD
TZNAME:CST
DTSTART:20261101T020000
TZOFFSETFROM:-0500
TZOFFSETTO:-0600
RDATE:20271107T020000
END:STANDARD
BEGIN:DAYLIGHT
TZNAME:CDT
DTSTART:20260308T020000
TZOFFSETFROM:-0600
TZOFFSETTO:-0500
RDATE:20270314T020000
RDATE:20280312T020000
END:DAYLIGHT
END:VTIMEZONE
BEGIN:VEVENT
UID:3df8ddca-da56-4e2a-8869-bc5a8b48c91f
DTSTAMP:20260420T025308Z
DESCRIPTION:Bone Builder Exercise Class
DTSTART;TZID=America/Chicago:20270114T100000
DTEND;TZID=America/Chicago:20270114T110000
LOCATION:Horace Senior Center
SUMMARY:Horace Bone Builders
END:VEVENT
END:VCALENDAR
