BEGIN:VCALENDAR
VERSION:2.0
PRODID:-//communityofcarend.com//NONSGML kigkonsult.se iCalcreator 2.30.10/
 /
CALSCALE:GREGORIAN
METHOD:PUBLISH
UID:766609b5-987a-4b0c-a1cb-eee3b8bec3ce
X-WR-CALDESC:Low impact exercise class
X-WR-RELCALID:29f648067971a2cf63f54114fd7252cd
X-WR-TIMEZONE:America/Chicago
BEGIN:VTIMEZONE
TZID:America/Chicago
BEGIN:STANDARD
TZNAME:CST
DTSTART:20261101T020000
TZOFFSETFROM:-0500
TZOFFSETTO:-0600
RDATE:20271107T020000
END:STANDARD
BEGIN:DAYLIGHT
TZNAME:CDT
DTSTART:20260308T020000
TZOFFSETFROM:-0600
TZOFFSETTO:-0500
RDATE:20270314T020000
RDATE:20280312T020000
END:DAYLIGHT
END:VTIMEZONE
BEGIN:VEVENT
UID:929e1691-9e5b-4495-8d70-7a64f8e684c4
DTSTAMP:20260420T025023Z
DESCRIPTION:Low impact exercise class
DTSTART;TZID=America/Chicago:20270111T103000
DTEND;TZID=America/Chicago:20270111T113000
LOCATION:Kindred City Hall
SUMMARY:Kindred Bone Builders
END:VEVENT
END:VCALENDAR
