BEGIN:VCALENDAR
VERSION:2.0
PRODID:-//communityofcarend.com//NONSGML kigkonsult.se iCalcreator 2.30.10/
 /
CALSCALE:GREGORIAN
METHOD:PUBLISH
UID:5c4c906a-79bf-4601-bbe4-fbc99ce764f0
X-WR-CALDESC:Low impact exercise class
X-WR-RELCALID:2f3c3412351391d8c86be671b1df5de0
X-WR-TIMEZONE:America/Chicago
BEGIN:VTIMEZONE
TZID:America/Chicago
BEGIN:STANDARD
TZNAME:CST
DTSTART:20261101T020000
TZOFFSETFROM:-0500
TZOFFSETTO:-0600
RDATE:20271107T020000
END:STANDARD
BEGIN:DAYLIGHT
TZNAME:CDT
DTSTART:20260308T020000
TZOFFSETFROM:-0600
TZOFFSETTO:-0500
RDATE:20270314T020000
RDATE:20280312T020000
END:DAYLIGHT
END:VTIMEZONE
BEGIN:VEVENT
UID:10b389e0-90cb-4d4b-be6b-5a89681dcc70
DTSTAMP:20260420T011412Z
DESCRIPTION:Low impact exercise class
DTSTART;TZID=America/Chicago:20261228T103000
DTEND;TZID=America/Chicago:20261228T113000
LOCATION:Kindred City Hall
SUMMARY:Kindred Bone Builders
END:VEVENT
END:VCALENDAR
