BEGIN:VCALENDAR
VERSION:2.0
PRODID:-//communityofcarend.com//NONSGML kigkonsult.se iCalcreator 2.30.10/
 /
CALSCALE:GREGORIAN
METHOD:PUBLISH
UID:47f15692-3f9c-4c77-94dd-d1c2e9579d9d
X-WR-CALDESC:Low-impact exercise classes.
X-WR-RELCALID:37b8368eda2efd394be20c170cb15b65
X-WR-TIMEZONE:America/Chicago
BEGIN:VTIMEZONE
TZID:America/Chicago
BEGIN:STANDARD
TZNAME:CST
DTSTART:20261101T020000
TZOFFSETFROM:-0500
TZOFFSETTO:-0600
RDATE:20271107T020000
END:STANDARD
BEGIN:DAYLIGHT
TZNAME:CDT
DTSTART:20260308T020000
TZOFFSETFROM:-0600
TZOFFSETTO:-0500
RDATE:20270314T020000
RDATE:20280312T020000
END:DAYLIGHT
END:VTIMEZONE
BEGIN:VEVENT
UID:033cf918-4c72-4ede-a11d-d8a99fe8e038
DTSTAMP:20260420T011838Z
DESCRIPTION:Low-impact exercise classes.
DTSTART;TZID=America/Chicago:20261225T103000
DTEND;TZID=America/Chicago:20261225T113000
LOCATION:Kindred City Hall
SUMMARY:Kindred Bone Builders
END:VEVENT
END:VCALENDAR
