BEGIN:VCALENDAR
VERSION:2.0
PRODID:-//communityofcarend.com//NONSGML kigkonsult.se iCalcreator 2.30.10/
 /
CALSCALE:GREGORIAN
METHOD:PUBLISH
UID:cff08b1d-778d-4f16-94c2-5c95918febba
X-WR-CALDESC:Low impact exercise class
X-WR-RELCALID:9fb2bbde75ba8efec02154150c22b837
X-WR-TIMEZONE:America/Chicago
BEGIN:VTIMEZONE
TZID:America/Chicago
BEGIN:STANDARD
TZNAME:CST
DTSTART:20261101T020000
TZOFFSETFROM:-0500
TZOFFSETTO:-0600
RDATE:20271107T020000
END:STANDARD
BEGIN:DAYLIGHT
TZNAME:CDT
DTSTART:20260308T020000
TZOFFSETFROM:-0600
TZOFFSETTO:-0500
RDATE:20270314T020000
RDATE:20280312T020000
END:DAYLIGHT
END:VTIMEZONE
BEGIN:VEVENT
UID:3f14afbe-5fe1-4848-a91c-7b09e52e25e3
DTSTAMP:20260420T011156Z
DESCRIPTION:Low impact exercise class
DTSTART;TZID=America/Chicago:20261221T103000
DTEND;TZID=America/Chicago:20261221T113000
LOCATION:Kindred City Hall
SUMMARY:Kindred Bone Builders
END:VEVENT
END:VCALENDAR
