BEGIN:VCALENDAR
VERSION:2.0
PRODID:-//communityofcarend.com//NONSGML kigkonsult.se iCalcreator 2.30.10/
 /
CALSCALE:GREGORIAN
METHOD:PUBLISH
UID:de839b26-4ef2-4f82-bddd-91b5d074a821
X-WR-CALDESC:
X-WR-RELCALID:ebc6adf6200bf2d579cd8a2e3db45006
X-WR-TIMEZONE:America/Chicago
BEGIN:VTIMEZONE
TZID:America/Chicago
BEGIN:STANDARD
TZNAME:CST
DTSTART:20261101T020000
TZOFFSETFROM:-0500
TZOFFSETTO:-0600
RDATE:20271107T020000
END:STANDARD
BEGIN:DAYLIGHT
TZNAME:CDT
DTSTART:20260308T020000
TZOFFSETFROM:-0600
TZOFFSETTO:-0500
RDATE:20270314T020000
RDATE:20280312T020000
END:DAYLIGHT
END:VTIMEZONE
BEGIN:VEVENT
UID:2f442539-b758-4677-836b-51d7080cb182
DTSTAMP:20260420T012126Z
DESCRIPTION:
DTSTART;TZID=America/Chicago:20261215T140000
DTEND;TZID=America/Chicago:20261215T150000
LOCATION:Casselton City Hall
SUMMARY:Casselton Bone Builders
END:VEVENT
END:VCALENDAR
