BEGIN:VCALENDAR
VERSION:2.0
PRODID:-//communityofcarend.com//NONSGML kigkonsult.se iCalcreator 2.30.10/
 /
CALSCALE:GREGORIAN
METHOD:PUBLISH
UID:babcab5e-b251-4c56-9fdc-94c703b10d58
X-WR-CALDESC:Bone Builder Exercise Class
X-WR-RELCALID:28cffaad3ed4e54c37075ee651074e1e
X-WR-TIMEZONE:America/Chicago
BEGIN:VTIMEZONE
TZID:America/Chicago
BEGIN:STANDARD
TZNAME:CST
DTSTART:20261101T020000
TZOFFSETFROM:-0500
TZOFFSETTO:-0600
RDATE:20271107T020000
END:STANDARD
BEGIN:DAYLIGHT
TZNAME:CDT
DTSTART:20260308T020000
TZOFFSETFROM:-0600
TZOFFSETTO:-0500
RDATE:20270314T020000
RDATE:20280312T020000
END:DAYLIGHT
END:VTIMEZONE
BEGIN:VEVENT
UID:2e729fd9-69f6-43dc-8aa2-40f3e9234c8b
DTSTAMP:20260420T012134Z
DESCRIPTION:Bone Builder Exercise Class
DTSTART;TZID=America/Chicago:20261210T100000
DTEND;TZID=America/Chicago:20261210T110000
LOCATION:Horace Senior Center
SUMMARY:Horace Bone Builders
END:VEVENT
END:VCALENDAR
