BEGIN:VCALENDAR
VERSION:2.0
PRODID:-//communityofcarend.com//NONSGML kigkonsult.se iCalcreator 2.30.10/
 /
CALSCALE:GREGORIAN
METHOD:PUBLISH
UID:df333cbd-f3ba-49f6-b613-5926f4a6970d
X-WR-CALDESC:
X-WR-RELCALID:d826ad478ed19eedd357721aac7a6f01
X-WR-TIMEZONE:America/Chicago
BEGIN:VTIMEZONE
TZID:America/Chicago
BEGIN:STANDARD
TZNAME:CST
DTSTART:20261101T020000
TZOFFSETFROM:-0500
TZOFFSETTO:-0600
RDATE:20271107T020000
END:STANDARD
BEGIN:DAYLIGHT
TZNAME:CDT
DTSTART:20260308T020000
TZOFFSETFROM:-0600
TZOFFSETTO:-0500
RDATE:20270314T020000
RDATE:20280312T020000
END:DAYLIGHT
END:VTIMEZONE
BEGIN:VEVENT
UID:6619915f-269a-475c-be13-cabaaa62ed75
DTSTAMP:20260420T011836Z
DESCRIPTION:
DTSTART;TZID=America/Chicago:20261201T140000
DTEND;TZID=America/Chicago:20261201T150000
LOCATION:Casselton City Hall
SUMMARY:Casselton Bone Builders
END:VEVENT
END:VCALENDAR
