BEGIN:VCALENDAR
VERSION:2.0
PRODID:-//communityofcarend.com//NONSGML kigkonsult.se iCalcreator 2.30.10/
 /
CALSCALE:GREGORIAN
METHOD:PUBLISH
UID:1e62b5a6-b902-4cca-aa68-b4141315d736
X-WR-CALDESC:Low impact exercise class
X-WR-RELCALID:a4e2b9ad5a40a25a0ec05910088e765f
X-WR-TIMEZONE:America/Chicago
BEGIN:VTIMEZONE
TZID:America/Chicago
BEGIN:STANDARD
TZNAME:CST
DTSTART:20261101T020000
TZOFFSETFROM:-0500
TZOFFSETTO:-0600
RDATE:20271107T020000
END:STANDARD
BEGIN:DAYLIGHT
TZNAME:CDT
DTSTART:20260308T020000
TZOFFSETFROM:-0600
TZOFFSETTO:-0500
RDATE:20270314T020000
RDATE:20280312T020000
END:DAYLIGHT
END:VTIMEZONE
BEGIN:VEVENT
UID:e331e13e-6271-463a-aad7-bc0ac7eecc08
DTSTAMP:20260419T233019Z
DESCRIPTION:Low impact exercise class
DTSTART;TZID=America/Chicago:20261130T103000
DTEND;TZID=America/Chicago:20261130T113000
LOCATION:Kindred City Hall
SUMMARY:Kindred Bone Builders
END:VEVENT
END:VCALENDAR
