BEGIN:VCALENDAR
VERSION:2.0
PRODID:-//communityofcarend.com//NONSGML kigkonsult.se iCalcreator 2.30.10/
 /
CALSCALE:GREGORIAN
METHOD:PUBLISH
UID:300f2071-55dc-4077-8fb5-2278b6d4a79e
X-WR-CALDESC:Low-impact exercise classes.
X-WR-RELCALID:c5862465702af7114d7bb1787f8c9fc1
X-WR-TIMEZONE:America/Chicago
BEGIN:VTIMEZONE
TZID:America/Chicago
BEGIN:STANDARD
TZNAME:CST
DTSTART:20261101T020000
TZOFFSETFROM:-0500
TZOFFSETTO:-0600
RDATE:20271107T020000
END:STANDARD
BEGIN:DAYLIGHT
TZNAME:CDT
DTSTART:20260308T020000
TZOFFSETFROM:-0600
TZOFFSETTO:-0500
RDATE:20270314T020000
RDATE:20280312T020000
END:DAYLIGHT
END:VTIMEZONE
BEGIN:VEVENT
UID:c0ab1eff-1909-4449-8676-4618c1d9105b
DTSTAMP:20260419T232948Z
DESCRIPTION:Low-impact exercise classes.
DTSTART;TZID=America/Chicago:20261120T103000
DTEND;TZID=America/Chicago:20261120T113000
LOCATION:Kindred City Hall
SUMMARY:Kindred Bone Builders
END:VEVENT
END:VCALENDAR
